{
 "currentVersion": 10.91,
 "serviceDescription": "Mapa pendientes franja servidumbre",
 "name": "DSGN/RS_OSI_T_IOP_PEND_PLNG",
 "description": "Mapa pendientes franja servidumbre",
 "extent": {
  "xmin": 360858.5,
  "ymin": 8475787,
  "xmax": 636063,
  "ymax": 8563666.5,
  "spatialReference": {
   "wkt": "PROJCS[\"WGS_1984_UTM_Zone_18S\",GEOGCS[\"GCS_WGS_1984\",DATUM[\"D_WGS_1984\",SPHEROID[\"WGS_1984\",6378137.0,298.257223563]],PRIMEM[\"Greenwich\",0.0],UNIT[\"Degree\",0.0174532925199433]],PROJECTION[\"Transverse_Mercator\"],PARAMETER[\"False_Easting\",500000.0],PARAMETER[\"False_Northing\",10000000.0],PARAMETER[\"Central_Meridian\",-75.0],PARAMETER[\"Scale_Factor\",0.9996],PARAMETER[\"Latitude_Of_Origin\",0.0],UNIT[\"Meter\",1.0]],VERTCS[\"unknown\",VDATUM[\"unknown\"],PARAMETER[\"Vertical_Shift\",0.0],PARAMETER[\"Direction\",1.0],UNIT[\"Meter\",1.0]]"
  }
 },
 "initialExtent": {
  "xmin": 360858.5,
  "ymin": 8475787,
  "xmax": 636063,
  "ymax": 8563666.5,
  "spatialReference": {
   "wkt": "PROJCS[\"WGS_1984_UTM_Zone_18S\",GEOGCS[\"GCS_WGS_1984\",DATUM[\"D_WGS_1984\",SPHEROID[\"WGS_1984\",6378137.0,298.257223563]],PRIMEM[\"Greenwich\",0.0],UNIT[\"Degree\",0.0174532925199433]],PROJECTION[\"Transverse_Mercator\"],PARAMETER[\"False_Easting\",500000.0],PARAMETER[\"False_Northing\",10000000.0],PARAMETER[\"Central_Meridian\",-75.0],PARAMETER[\"Scale_Factor\",0.9996],PARAMETER[\"Latitude_Of_Origin\",0.0],UNIT[\"Meter\",1.0]],VERTCS[\"unknown\",VDATUM[\"unknown\"],PARAMETER[\"Vertical_Shift\",0.0],PARAMETER[\"Direction\",1.0],UNIT[\"Meter\",1.0]]"
  }
 },
 "fullExtent": {
  "xmin": 360858.5,
  "ymin": 8475787,
  "xmax": 636063,
  "ymax": 8563666.5,
  "spatialReference": {
   "wkt": "PROJCS[\"WGS_1984_UTM_Zone_18S\",GEOGCS[\"GCS_WGS_1984\",DATUM[\"D_WGS_1984\",SPHEROID[\"WGS_1984\",6378137.0,298.257223563]],PRIMEM[\"Greenwich\",0.0],UNIT[\"Degree\",0.0174532925199433]],PROJECTION[\"Transverse_Mercator\"],PARAMETER[\"False_Easting\",500000.0],PARAMETER[\"False_Northing\",10000000.0],PARAMETER[\"Central_Meridian\",-75.0],PARAMETER[\"Scale_Factor\",0.9996],PARAMETER[\"Latitude_Of_Origin\",0.0],UNIT[\"Meter\",1.0]],VERTCS[\"unknown\",VDATUM[\"unknown\"],PARAMETER[\"Vertical_Shift\",0.0],PARAMETER[\"Direction\",1.0],UNIT[\"Meter\",1.0]]"
  }
 },
 "heightModelInfo": {
  "heightModel": "gravity_related_height",
  "vertCRS": "unknown",
  "heightUnit": "meter"
 },
 "pixelSizeX": 0.5,
 "pixelSizeY": 0.5,
 "bandCount": 1,
 "pixelType": "U8",
 "minPixelSize": 0,
 "maxPixelSize": 0,
 "copyrightText": "Osinergmin",
 "serviceDataType": "esriImageServiceDataTypeGeneric",
 "minValues": [
  0
 ],
 "maxValues": [
  89
 ],
 "meanValues": [
  13.551197935196786
 ],
 "stdvValues": [
  11.370157916656884
 ],
 "objectIdField": "",
 "fields": [],
 "capabilities": "Image,Metadata,Mensuration",
 "defaultMosaicMethod": "Center",
 "allowedMosaicMethods": "",
 "sortField": "",
 "sortValue": null,
 "sortAscending": true,
 "mosaicOperator": "First",
 "defaultCompressionQuality": 75,
 "defaultResamplingMethod": "Bilinear",
 "maxImageHeight": 4100,
 "maxImageWidth": 15000,
 "allowRasterFunction": true,
 "rasterFunctionInfos": [
  {
   "name": "None",
   "description": "",
   "help": ""
  }
 ],
 "rasterTypeInfos": [
  {
   "name": "Raster Dataset",
   "description": "Supports all ArcGIS Raster Datasets",
   "help": ""
  }
 ],
 "mensurationCapabilities": "Basic",
 "hasHistograms": true,
 "hasColormap": false,
 "hasRasterAttributeTable": false,
 "minScale": 0,
 "maxScale": 0,
 "exportTilesAllowed": false,
 "hasMultidimensions": false,
 "supportsStatistics": false,
 "supportsAdvancedQueries": false,
 "editFieldsInfo": null,
 "ownershipBasedAccessControlForRasters": null,
 "allowComputeTiePoints": false,
 "useStandardizedQueries": true,
 "advancedQueryCapabilities": {
  "useStandardizedQueries": true,
  "supportsStatistics": false,
  "supportsOrderBy": false,
  "supportsDistinct": false,
  "supportsPagination": false
 },
 "spatialReference": {
  "wkt": "PROJCS[\"WGS_1984_UTM_Zone_18S\",GEOGCS[\"GCS_WGS_1984\",DATUM[\"D_WGS_1984\",SPHEROID[\"WGS_1984\",6378137.0,298.257223563]],PRIMEM[\"Greenwich\",0.0],UNIT[\"Degree\",0.0174532925199433]],PROJECTION[\"Transverse_Mercator\"],PARAMETER[\"False_Easting\",500000.0],PARAMETER[\"False_Northing\",10000000.0],PARAMETER[\"Central_Meridian\",-75.0],PARAMETER[\"Scale_Factor\",0.9996],PARAMETER[\"Latitude_Of_Origin\",0.0],UNIT[\"Meter\",1.0]],VERTCS[\"unknown\",VDATUM[\"unknown\"],PARAMETER[\"Vertical_Shift\",0.0],PARAMETER[\"Direction\",1.0],UNIT[\"Meter\",1.0]]"
 }
}
