{
 "currentVersion": 10.91,
 "serviceDescription": "SDE_ortofoto_clip",
 "name": "SDE_ortofoto_clip",
 "description": "",
 "extent": {
  "xmin": 488378.132301794,
  "ymin": 8505187.193021,
  "xmax": 489385.332301794,
  "ymax": 8506981.043021,
  "spatialReference": {
   "wkid": 32718,
   "latestWkid": 32718
  }
 },
 "initialExtent": {
  "xmin": 488378.132301794,
  "ymin": 8505187.193021,
  "xmax": 489385.332301794,
  "ymax": 8506981.043021,
  "spatialReference": {
   "wkid": 32718,
   "latestWkid": 32718
  }
 },
 "fullExtent": {
  "xmin": 488378.132301794,
  "ymin": 8505187.193021,
  "xmax": 489385.332301794,
  "ymax": 8506981.043021,
  "spatialReference": {
   "wkid": 32718,
   "latestWkid": 32718
  }
 },
 "hasMultidimensions": false,
 "pixelSizeX": 0.05000000000000058,
 "pixelSizeY": 0.05000000000004153,
 "datasetFormat": "SDR",
 "uncompressedSize": 2168118864,
 "blockWidth": 128,
 "blockHeight": 128,
 "compressionType": "LZ77",
 "bandNames": [
  "Band_1",
  "Band_2",
  "Band_3"
 ],
 "allowCopy": true,
 "allowAnalysis": true,
 "bandCount": 3,
 "pixelType": "U8",
 "minPixelSize": 0,
 "maxPixelSize": 0,
 "copyrightText": "",
 "serviceDataType": "esriImageServiceDataTypeRGB",
 "serviceSourceType": "esriImageServiceSourceTypeDataset",
 "minValues": [],
 "maxValues": [],
 "meanValues": [],
 "stdvValues": [],
 "objectIdField": "",
 "fields": [],
 "capabilities": "Image,Metadata,Mensuration",
 "defaultMosaicMethod": "Center",
 "allowedMosaicMethods": "",
 "sortField": "",
 "sortValue": null,
 "sortAscending": true,
 "mosaicOperator": "First",
 "defaultCompressionQuality": 75,
 "defaultResamplingMethod": "Bilinear",
 "maxImageHeight": 4100,
 "maxImageWidth": 15000,
 "allowRasterFunction": true,
 "rasterFunctionInfos": [
  {
   "name": "None",
   "description": "",
   "help": ""
  }
 ],
 "rasterTypeInfos": [
  {
   "name": "Raster Dataset",
   "description": "Supports all ArcGIS Raster Datasets",
   "help": ""
  }
 ],
 "mensurationCapabilities": "Basic",
 "hasHistograms": false,
 "hasColormap": false,
 "hasRasterAttributeTable": false,
 "minScale": 0,
 "maxScale": 0,
 "exportTilesAllowed": false,
 "supportsStatistics": false,
 "supportsAdvancedQueries": false,
 "editFieldsInfo": null,
 "ownershipBasedAccessControlForRasters": null,
 "allowComputeTiePoints": false,
 "useStandardizedQueries": true,
 "advancedQueryCapabilities": {
  "useStandardizedQueries": true,
  "supportsStatistics": false,
  "supportsOrderBy": false,
  "supportsDistinct": false,
  "supportsPagination": false
 },
 "spatialReference": {
  "wkid": 32718,
  "latestWkid": 32718
 }
}
