{
 "documentInfo": {
  "Category": "",
  "Keywords": "Descargas",
  "Version": "2.9.0",
  "Comments": "Densidad por kilómetro cuadrado de descargas atmosféricas a nivel nacional",
  "AntialiasingMode": "Fast",
  "Title": "MapasDescargas.aprx",
  "Author": "",
  "TextAntialiasingMode": "Force",
  "Subject": "Densidad de descargas atmosféricas"
 },
 "maxImageWidth": 4096,
 "maxRecordCount": 1000,
 "tileInfo": {
  "lods": [
   {
    "level": 0,
    "scale": 891678681.197155952,
    "resolution": 235923.317733414209
   },
   {
    "level": 1,
    "scale": 445839340.598577976,
    "resolution": 117961.6588667071
   },
   {
    "level": 2,
    "scale": 222919670.299288988,
    "resolution": 58980.8294333535523
   },
   {
    "level": 3,
    "scale": 111459835.149644494,
    "resolution": 29490.4147166767762
   },
   {
    "level": 4,
    "scale": 55729917.574822247,
    "resolution": 14745.2073583383881
   },
   {
    "level": 5,
    "scale": 27864958.7874111235,
    "resolution": 7372.603679169194
   },
   {
    "level": 6,
    "scale": 13932479.3937055618,
    "resolution": 3686.301839584597
   },
   {
    "level": 7,
    "scale": 6966239.69685278088,
    "resolution": 1843.15091979229851
   },
   {
    "level": 8,
    "scale": 3483119.84842639044,
    "resolution": 921.575459896149255
   },
   {
    "level": 9,
    "scale": 1741559.92421319522,
    "resolution": 460.787729948074627
   },
   {
    "level": 10,
    "scale": 870779.96210659761,
    "resolution": 230.393864974037314
   },
   {
    "level": 11,
    "scale": 435389.9810532988,
    "resolution": 115.196932487018657
   },
   {
    "level": 12,
    "scale": 217694.9905266494,
    "resolution": 57.598466243509328
   },
   {
    "level": 13,
    "scale": 108847.4952633247,
    "resolution": 28.799233121754664
   },
   {
    "level": 14,
    "scale": 54423.7476316623506,
    "resolution": 14.399616560877332
   },
   {
    "level": 15,
    "scale": 27211.8738158311753,
    "resolution": 7.1998082804386661
   },
   {
    "level": 16,
    "scale": 13605.9369079155877,
    "resolution": 3.599904140219333
   },
   {
    "level": 17,
    "scale": 6802.96845395779383,
    "resolution": 1.7999520701096665
   },
   {
    "level": 18,
    "scale": 3401.48422697889691,
    "resolution": 0.89997603505483326
   }
  ],
  "origin": {
   "x": -30198184.6698770188,
   "y": 30198184.6698770188
  },
  "format": "Mixed",
  "compressionQuality": 75,
  "rows": 256,
  "dpi": 96,
  "spatialReference": {
   "falseM": -100000,
   "xyTolerance": 0.001,
   "mUnits": 10000,
   "zUnits": 10000,
   "latestWkid": 3395,
   "zTolerance": 0.001,
   "wkid": 3395,
   "xyUnits": 149134210.447955519,
   "mTolerance": 0.001,
   "falseX": -20037700,
   "falseY": -30198300,
   "falseZ": -100000
  },
  "cols": 256
 },
 "description": "Densidad por kilómetro cuadrado de descargas atmosféricas a nivel nacional",
 "datesInUnknownTimezone": false,
 "supportsQueryDomains": true,
 "units": "esriMeters",
 "supportedImageFormatTypes": "PNG32,PNG24,PNG,JPG,DIB,TIFF,EMF,PS,PDF,GIF,SVG,SVGZ,BMP",
 "supportsClipping": true,
 "maxImageHeight": 4096,
 "exportTilesAllowed": false,
 "tables": [],
 "supportsDatumTransformation": true,
 "cimVersion": "3.2.0",
 "supportsQueryDataElements": true,
 "layers": [
  {
   "subLayerIds": null,
   "maxScale": 0,
   "name": "Malla_1km2",
   "defaultVisibility": true,
   "id": 0,
   "minScale": 500000,
   "supportsDynamicLegends": true,
   "type": "Feature Layer",
   "parentLayerId": -1,
   "geometryType": "esriGeometryPolygon"
  },
  {
   "subLayerIds": null,
   "maxScale": 0,
   "name": "Límite Perú",
   "defaultVisibility": true,
   "id": 1,
   "minScale": 0,
   "supportsDynamicLegends": true,
   "type": "Feature Layer",
   "parentLayerId": -1,
   "geometryType": "esriGeometryPolygon"
  },
  {
   "subLayerIds": [
    3,
    6,
    9,
    12,
    15,
    18,
    21,
    24,
    27,
    30,
    33,
    36,
    39
   ],
   "maxScale": 0,
   "name": "Total de rayos por km2",
   "defaultVisibility": true,
   "id": 2,
   "minScale": 0,
   "supportsDynamicLegends": false,
   "type": "Group Layer",
   "parentLayerId": -1
  },
  {
   "subLayerIds": [
    4,
    5
   ],
   "maxScale": 0,
   "name": "Año 2025",
   "defaultVisibility": true,
   "id": 3,
   "minScale": 0,
   "supportsDynamicLegends": false,
   "type": "Group Layer",
   "parentLayerId": 2
  },
  {
   "subLayerIds": null,
   "maxScale": 0,
   "name": "leyenda_DA_2025",
   "defaultVisibility": true,
   "id": 4,
   "minScale": 500000,
   "supportsDynamicLegends": true,
   "type": "Feature Layer",
   "parentLayerId": 3,
   "geometryType": "esriGeometryPoint"
  },
  {
   "subLayerIds": null,
   "maxScale": 0,
   "name": "Densidad Año 2025",
   "defaultVisibility": true,
   "id": 5,
   "minScale": 0,
   "supportsDynamicLegends": true,
   "type": "Raster Layer",
   "parentLayerId": 3
  },
  {
   "subLayerIds": [
    7,
    8
   ],
   "maxScale": 0,
   "name": "Año 2024",
   "defaultVisibility": false,
   "id": 6,
   "minScale": 0,
   "supportsDynamicLegends": false,
   "type": "Group Layer",
   "parentLayerId": 2
  },
  {
   "subLayerIds": null,
   "maxScale": 0,
   "name": "leyenda_DA_2024",
   "defaultVisibility": true,
   "id": 7,
   "minScale": 500000,
   "supportsDynamicLegends": true,
   "type": "Feature Layer",
   "parentLayerId": 6,
   "geometryType": "esriGeometryPoint"
  },
  {
   "subLayerIds": null,
   "maxScale": 0,
   "name": "Densidad Año 2024",
   "defaultVisibility": true,
   "id": 8,
   "minScale": 0,
   "supportsDynamicLegends": true,
   "type": "Raster Layer",
   "parentLayerId": 6
  },
  {
   "subLayerIds": [
    10,
    11
   ],
   "maxScale": 0,
   "name": "Año 2023",
   "defaultVisibility": false,
   "id": 9,
   "minScale": 0,
   "supportsDynamicLegends": false,
   "type": "Group Layer",
   "parentLayerId": 2
  },
  {
   "subLayerIds": null,
   "maxScale": 0,
   "name": "leyenda_DA_2023",
   "defaultVisibility": true,
   "id": 10,
   "minScale": 500000,
   "supportsDynamicLegends": true,
   "type": "Feature Layer",
   "parentLayerId": 9,
   "geometryType": "esriGeometryPoint"
  },
  {
   "subLayerIds": null,
   "maxScale": 0,
   "name": "Densidad Año 2023",
   "defaultVisibility": true,
   "id": 11,
   "minScale": 0,
   "supportsDynamicLegends": true,
   "type": "Raster Layer",
   "parentLayerId": 9
  },
  {
   "subLayerIds": [
    13,
    14
   ],
   "maxScale": 0,
   "name": "Año 2022",
   "defaultVisibility": false,
   "id": 12,
   "minScale": 0,
   "supportsDynamicLegends": false,
   "type": "Group Layer",
   "parentLayerId": 2
  },
  {
   "subLayerIds": null,
   "maxScale": 0,
   "name": "leyenda_DA_2022",
   "defaultVisibility": true,
   "id": 13,
   "minScale": 500000,
   "supportsDynamicLegends": true,
   "type": "Feature Layer",
   "parentLayerId": 12,
   "geometryType": "esriGeometryPoint"
  },
  {
   "subLayerIds": null,
   "maxScale": 0,
   "name": "Densidad Año 2022",
   "defaultVisibility": true,
   "id": 14,
   "minScale": 0,
   "supportsDynamicLegends": true,
   "type": "Raster Layer",
   "parentLayerId": 12
  },
  {
   "subLayerIds": [
    16,
    17
   ],
   "maxScale": 0,
   "name": "Año 2021",
   "defaultVisibility": false,
   "id": 15,
   "minScale": 0,
   "supportsDynamicLegends": false,
   "type": "Group Layer",
   "parentLayerId": 2
  },
  {
   "subLayerIds": null,
   "maxScale": 0,
   "name": "leyenda_DA_2021",
   "defaultVisibility": true,
   "id": 16,
   "minScale": 500000,
   "supportsDynamicLegends": true,
   "type": "Feature Layer",
   "parentLayerId": 15,
   "geometryType": "esriGeometryPoint"
  },
  {
   "subLayerIds": null,
   "maxScale": 0,
   "name": "Densidad Año 2021",
   "defaultVisibility": true,
   "id": 17,
   "minScale": 0,
   "supportsDynamicLegends": true,
   "type": "Raster Layer",
   "parentLayerId": 15
  },
  {
   "subLayerIds": [
    19,
    20
   ],
   "maxScale": 0,
   "name": "Año 2020",
   "defaultVisibility": false,
   "id": 18,
   "minScale": 0,
   "supportsDynamicLegends": false,
   "type": "Group Layer",
   "parentLayerId": 2
  },
  {
   "subLayerIds": null,
   "maxScale": 0,
   "name": "leyenda_DA_2020",
   "defaultVisibility": true,
   "id": 19,
   "minScale": 500000,
   "supportsDynamicLegends": true,
   "type": "Feature Layer",
   "parentLayerId": 18,
   "geometryType": "esriGeometryPoint"
  },
  {
   "subLayerIds": null,
   "maxScale": 0,
   "name": "Densidad Año 2020",
   "defaultVisibility": true,
   "id": 20,
   "minScale": 0,
   "supportsDynamicLegends": true,
   "type": "Raster Layer",
   "parentLayerId": 18
  },
  {
   "subLayerIds": [
    22,
    23
   ],
   "maxScale": 0,
   "name": "Año 2019",
   "defaultVisibility": false,
   "id": 21,
   "minScale": 0,
   "supportsDynamicLegends": false,
   "type": "Group Layer",
   "parentLayerId": 2
  },
  {
   "subLayerIds": null,
   "maxScale": 0,
   "name": "leyenda_DA_2019",
   "defaultVisibility": true,
   "id": 22,
   "minScale": 500000,
   "supportsDynamicLegends": true,
   "type": "Feature Layer",
   "parentLayerId": 21,
   "geometryType": "esriGeometryPoint"
  },
  {
   "subLayerIds": null,
   "maxScale": 0,
   "name": "Densidad Año 2019",
   "defaultVisibility": true,
   "id": 23,
   "minScale": 0,
   "supportsDynamicLegends": true,
   "type": "Raster Layer",
   "parentLayerId": 21
  },
  {
   "subLayerIds": [
    25,
    26
   ],
   "maxScale": 0,
   "name": "Año 2018",
   "defaultVisibility": false,
   "id": 24,
   "minScale": 0,
   "supportsDynamicLegends": false,
   "type": "Group Layer",
   "parentLayerId": 2
  },
  {
   "subLayerIds": null,
   "maxScale": 0,
   "name": "leyenda_DA_2018",
   "defaultVisibility": true,
   "id": 25,
   "minScale": 500000,
   "supportsDynamicLegends": true,
   "type": "Feature Layer",
   "parentLayerId": 24,
   "geometryType": "esriGeometryPoint"
  },
  {
   "subLayerIds": null,
   "maxScale": 0,
   "name": "Densidad Año 2018",
   "defaultVisibility": true,
   "id": 26,
   "minScale": 0,
   "supportsDynamicLegends": true,
   "type": "Raster Layer",
   "parentLayerId": 24
  },
  {
   "subLayerIds": [
    28,
    29
   ],
   "maxScale": 0,
   "name": "Año 2017",
   "defaultVisibility": false,
   "id": 27,
   "minScale": 0,
   "supportsDynamicLegends": false,
   "type": "Group Layer",
   "parentLayerId": 2
  },
  {
   "subLayerIds": null,
   "maxScale": 0,
   "name": "leyenda_DA_2017",
   "defaultVisibility": true,
   "id": 28,
   "minScale": 500000,
   "supportsDynamicLegends": true,
   "type": "Feature Layer",
   "parentLayerId": 27,
   "geometryType": "esriGeometryPoint"
  },
  {
   "subLayerIds": null,
   "maxScale": 0,
   "name": "Densidad Año 2017",
   "defaultVisibility": true,
   "id": 29,
   "minScale": 0,
   "supportsDynamicLegends": true,
   "type": "Raster Layer",
   "parentLayerId": 27
  },
  {
   "subLayerIds": [
    31,
    32
   ],
   "maxScale": 0,
   "name": "Año 2016",
   "defaultVisibility": false,
   "id": 30,
   "minScale": 0,
   "supportsDynamicLegends": false,
   "type": "Group Layer",
   "parentLayerId": 2
  },
  {
   "subLayerIds": null,
   "maxScale": 0,
   "name": "leyenda_DA_2016",
   "defaultVisibility": true,
   "id": 31,
   "minScale": 500000,
   "supportsDynamicLegends": true,
   "type": "Feature Layer",
   "parentLayerId": 30,
   "geometryType": "esriGeometryPoint"
  },
  {
   "subLayerIds": null,
   "maxScale": 0,
   "name": "Densidad Año 2016",
   "defaultVisibility": true,
   "id": 32,
   "minScale": 0,
   "supportsDynamicLegends": true,
   "type": "Raster Layer",
   "parentLayerId": 30
  },
  {
   "subLayerIds": [
    34,
    35
   ],
   "maxScale": 0,
   "name": "Año 2015",
   "defaultVisibility": false,
   "id": 33,
   "minScale": 0,
   "supportsDynamicLegends": false,
   "type": "Group Layer",
   "parentLayerId": 2
  },
  {
   "subLayerIds": null,
   "maxScale": 0,
   "name": "leyenda_DA_2015",
   "defaultVisibility": true,
   "id": 34,
   "minScale": 500000,
   "supportsDynamicLegends": true,
   "type": "Feature Layer",
   "parentLayerId": 33,
   "geometryType": "esriGeometryPoint"
  },
  {
   "subLayerIds": null,
   "maxScale": 0,
   "name": "Densidad Año 2015",
   "defaultVisibility": true,
   "id": 35,
   "minScale": 0,
   "supportsDynamicLegends": true,
   "type": "Raster Layer",
   "parentLayerId": 33
  },
  {
   "subLayerIds": [
    37,
    38
   ],
   "maxScale": 0,
   "name": "Año 2014",
   "defaultVisibility": false,
   "id": 36,
   "minScale": 0,
   "supportsDynamicLegends": false,
   "type": "Group Layer",
   "parentLayerId": 2
  },
  {
   "subLayerIds": null,
   "maxScale": 0,
   "name": "leyenda_DA_2014",
   "defaultVisibility": true,
   "id": 37,
   "minScale": 500000,
   "supportsDynamicLegends": true,
   "type": "Feature Layer",
   "parentLayerId": 36,
   "geometryType": "esriGeometryPoint"
  },
  {
   "subLayerIds": null,
   "maxScale": 0,
   "name": "Densidad Año 2014",
   "defaultVisibility": true,
   "id": 38,
   "minScale": 0,
   "supportsDynamicLegends": true,
   "type": "Raster Layer",
   "parentLayerId": 36
  },
  {
   "subLayerIds": [
    40,
    41
   ],
   "maxScale": 0,
   "name": "Año 2013",
   "defaultVisibility": false,
   "id": 39,
   "minScale": 0,
   "supportsDynamicLegends": false,
   "type": "Group Layer",
   "parentLayerId": 2
  },
  {
   "subLayerIds": null,
   "maxScale": 0,
   "name": "leyenda_DA_2013",
   "defaultVisibility": true,
   "id": 40,
   "minScale": 500000,
   "supportsDynamicLegends": true,
   "type": "Feature Layer",
   "parentLayerId": 39,
   "geometryType": "esriGeometryPoint"
  },
  {
   "subLayerIds": null,
   "maxScale": 0,
   "name": "Densidad Año 2013",
   "defaultVisibility": true,
   "id": 41,
   "minScale": 0,
   "supportsDynamicLegends": true,
   "type": "Raster Layer",
   "parentLayerId": 39
  }
 ],
 "mapName": "Descargas Atmosféricas",
 "archivingInfo": {
  "supportsHistoricMoment": false
 },
 "minScale": 13932479.3937055618,
 "spatialReference": {
  "falseM": -100000,
  "xyTolerance": 0.001,
  "mUnits": 10000,
  "zUnits": 10000,
  "latestWkid": 3395,
  "zTolerance": 0.001,
  "wkid": 3395,
  "xyUnits": 149134210.447955519,
  "mTolerance": 0.001,
  "falseX": -20037700,
  "falseY": -30198300,
  "falseZ": -100000
 },
 "fullExtent": {
  "ymin": -2065356.84664666792,
  "xmin": -9053413.29516766407,
  "ymax": -4268.82739189826952,
  "xmax": -7642336.75154365133,
  "spatialReference": {
   "falseM": -100000,
   "xyTolerance": 0.001,
   "mUnits": 10000,
   "zUnits": 10000,
   "latestWkid": 3395,
   "zTolerance": 0.001,
   "wkid": 3395,
   "xyUnits": 149134210.447955519,
   "mTolerance": 0.001,
   "falseX": -20037700,
   "falseY": -30198300,
   "falseZ": -100000
  }
 },
 "supportedExtensions": "",
 "serviceItemId": "76fdc46590ba46208f2eaff6ba77c033",
 "capabilities": "TilesOnly,Tilemap",
 "supportsDynamicLayers": false,
 "maxScale": 435389.9810532988,
 "singleFusedMapCache": true,
 "storageInfo": {
  "storageFormat": "esriMapCacheStorageModeCompactV2",
  "packetSize": 128
 },
 "currentVersion": 12.9,
 "mapUnits": {
  "uwkid": 9001
 },
 "referenceScale": 0,
 "floorAwareMapProperties": {
  "defaultFloorFilterSettings": {
   "isEnabled": false
  }
 },
 "maxExportTilesCount": 100000,
 "supportsSpatialFilter": true,
 "maxLOD": 11,
 "supportedQueryFormats": "JSON, geoJSON, PBF",
 "minLOD": 6,
 "initialExtent": {
  "ymin": -2168406.8466466628,
  "xmin": -10129991.29516766,
  "ymax": 98693.1533533371985,
  "xmax": -6565835.29516766034,
  "spatialReference": {
   "falseM": -100000,
   "xyTolerance": 0.001,
   "mUnits": 10000,
   "zUnits": 10000,
   "latestWkid": 3395,
   "zTolerance": 0.001,
   "wkid": 3395,
   "xyUnits": 149134210.447955519,
   "mTolerance": 0.001,
   "falseX": -20037700,
   "falseY": -30198300,
   "falseZ": -100000
  }
 },
 "serviceDescription": "Densidad por kilómetro cuadrado de descargas atmosféricas a nivel nacional",
 "copyrightText": "Osinergmin",
 "supportsTimeRelation": true
}
